BEGIN:VCALENDAR
VERSION:2.0
PRODID:-//Tucson Racquet &amp; Fitness Club - ECPv6.15.18//NONSGML v1.0//EN
CALSCALE:GREGORIAN
METHOD:PUBLISH
X-ORIGINAL-URL:https://tucsonracquetclub.com
X-WR-CALDESC:Events for Tucson Racquet &amp; Fitness Club
REFRESH-INTERVAL;VALUE=DURATION:PT1H
X-Robots-Tag:noindex
X-PUBLISHED-TTL:PT1H
BEGIN:VTIMEZONE
TZID:America/Denver
BEGIN:DAYLIGHT
TZOFFSETFROM:-0700
TZOFFSETTO:-0600
TZNAME:MDT
DTSTART:20250309T090000
END:DAYLIGHT
BEGIN:STANDARD
TZOFFSETFROM:-0600
TZOFFSETTO:-0700
TZNAME:MST
DTSTART:20251102T080000
END:STANDARD
BEGIN:DAYLIGHT
TZOFFSETFROM:-0700
TZOFFSETTO:-0600
TZNAME:MDT
DTSTART:20260308T090000
END:DAYLIGHT
BEGIN:STANDARD
TZOFFSETFROM:-0600
TZOFFSETTO:-0700
TZNAME:MST
DTSTART:20261101T080000
END:STANDARD
BEGIN:DAYLIGHT
TZOFFSETFROM:-0700
TZOFFSETTO:-0600
TZNAME:MDT
DTSTART:20270314T090000
END:DAYLIGHT
BEGIN:STANDARD
TZOFFSETFROM:-0600
TZOFFSETTO:-0700
TZNAME:MST
DTSTART:20271107T080000
END:STANDARD
END:VTIMEZONE
BEGIN:VEVENT
DTSTART;TZID=America/Denver:20260522T180000
DTEND;TZID=America/Denver:20260522T210000
DTSTAMP:20260425T093836
CREATED:20260424T220554Z
LAST-MODIFIED:20260424T222228Z
UID:2450-1779472800-1779483600@tucsonracquetclub.com
SUMMARY:
DESCRIPTION:Date & Time\nMay 22\, 2026 | 6:00 PM – 9:00 PM \n\nLocation\nTucson Racquet & Fitness Club – Lawn \n\nEvent Description\nJoin us for another great night in our Friday Night BBQ & Live Music Series featuring Amosphere! \nKnown as Tucson’s premiere R&B\, groove\, funk\, and dance band\, Amosphere delivers a high-energy performance packed with smooth rhythms\, powerful vocals\, and crowd-favorite hits that keep the dance floor moving all night. \nWhether you’re relaxing with friends or getting up to dance\, this is the perfect way to spend a Friday evening at the club. \nCome out and enjoy a great night of music\, food\, and drinks. \n\nEvent Highlights\n• Live Music on the Lawn• Amosphere (R&B • Groove • Funk • Dance)• Dancing Encouraged• Family-Friendly Atmosphere• Food & Beverages Available for Purchase \n\nAdmission\n• Members: Free (includes up to 2 guests)• Non-Members: $8 (12+)• Ages 7–11: $5• 6 & Under: Free
URL:https://tucsonracquetclub.com/event/2450/
LOCATION:AZ
END:VEVENT
BEGIN:VEVENT
DTSTART;TZID=America/Denver:20260529T180000
DTEND;TZID=America/Denver:20260529T210000
DTSTAMP:20260425T093836
CREATED:20260424T221400Z
LAST-MODIFIED:20260424T222150Z
UID:2452-1780077600-1780088400@tucsonracquetclub.com
SUMMARY:
DESCRIPTION:Date & Time\nMay 29\, 2026 | 6:00 PM – 9:00 PM \n\nLocation\nTucson Racquet & Fitness Club – Lawn \n\nEvent Description\nJoin us for another great night in our Friday Night BBQ & Live Music Series featuring Southbound Pilot! \nSouthbound Pilot is a dynamic band hailing from Tucson\, Arizona\, known for their compelling blend of roots-based originals and fresh takes on familiar classics. From Americana to Blues\, their performances are driven by powerful vocals\, inventive songwriting\, and a style that keeps the music feeling fresh and engaging all night. \nWhether you’re relaxing with friends or getting up to dance\, this is the perfect way to spend a Friday evening at the club. \nCome out and enjoy a great night of music\, food\, and drinks. \n\nEvent Highlights\n• Live Music on the Lawn• Southbound Pilot (Americana • Blues • Roots Rock)• Dancing Encouraged• Family-Friendly Atmosphere• Food & Beverages Available for Purchase \n\nAdmission\n• Members: Free (includes up to 2 guests)• Non-Members: $8 (12+)• Ages 7–11: $5• 6 & Under: Free
URL:https://tucsonracquetclub.com/event/2452/
LOCATION:AZ
END:VEVENT
BEGIN:VEVENT
DTSTART;TZID=America/Denver:20260529T180000
DTEND;TZID=America/Denver:20260529T210000
DTSTAMP:20260425T093836
CREATED:20260424T221805Z
LAST-MODIFIED:20260424T222115Z
UID:2454-1780077600-1780088400@tucsonracquetclub.com
SUMMARY:A1 Reggae
DESCRIPTION:Date & Time\nJune 5\, 2026 | 6:00 PM – 9:00 PM \n\nLocation\nTucson Racquet & Fitness Club – Lawn \n\nEvent Description\nJoin us for another great night in our Friday Night BBQ & Live Music Series featuring A1 Reggae! \nA1 Reggae brings laid-back island vibes and feel-good rhythms to the stage\, delivering a mix of reggae favorites and crowd-pleasing classics. Their smooth sound and relaxed energy create the perfect atmosphere for a summer night on the lawn. \nWhether you’re relaxing with friends or getting up to dance\, this is the perfect way to spend a Friday evening at the club. \nCome out and enjoy a great night of music\, food\, and drinks. \n\nEvent Highlights\n• Live Music on the Lawn• A1 Reggae (Reggae • Island Vibes • Feel-Good Classics)• Dancing Encouraged• Family-Friendly Atmosphere• Food & Beverages Available for Purchase \n\nAdmission\n• Members: Free (includes up to 2 guests)• Non-Members: $8 (12+)• Ages 7–11: $5• 6 & Under: Free
URL:https://tucsonracquetclub.com/event/2454/
LOCATION:AZ
END:VEVENT
BEGIN:VEVENT
DTSTART;TZID=America/Denver:20260612T080000
DTEND;TZID=America/Denver:20260612T210000
DTSTAMP:20260425T093836
CREATED:20260424T222419Z
LAST-MODIFIED:20260424T222419Z
UID:2456-1781251200-1781298000@tucsonracquetclub.com
SUMMARY:Sophia Rankin and The Sound
DESCRIPTION:Date & Time\nJune 12\, 2026 | 6:00 PM – 9:00 PM \n\nLocation\nTucson Racquet & Fitness Club – Lawn \n\nEvent Description\nJoin us for another great night in our Friday Night BBQ & Live Music Series featuring Sophia Rankin and The Sound! \nKnown for their soulful vocals\, powerful stage presence\, and genre-blending sound\, Sophia Rankin and The Sound deliver a dynamic mix of rock\, soul\, and alternative influences. Their performances are high-energy\, emotional\, and engaging—making every show a standout experience. \nWhether you’re relaxing with friends or getting up to dance\, this is the perfect way to spend a Friday evening at the club. \nCome out and enjoy a great night of music\, food\, and drinks. \n\nEvent Highlights\n• Live Music on the Lawn• Sophia Rankin and The Sound (Rock • Soul • Alternative)• Dancing Encouraged• Family-Friendly Atmosphere• Food & Beverages Available for Purchase \n\nAdmission\n• Members: Free (includes up to 2 guests)• Non-Members: $8 (12+)• Ages 7–11: $5• 6 & Under: Free
URL:https://tucsonracquetclub.com/event/sophia-rankin-and-the-sound/
LOCATION:AZ
END:VEVENT
BEGIN:VEVENT
DTSTART;TZID=America/Denver:20260619T180000
DTEND;TZID=America/Denver:20260619T210000
DTSTAMP:20260425T093836
CREATED:20260424T223604Z
LAST-MODIFIED:20260424T223649Z
UID:2458-1781892000-1781902800@tucsonracquetclub.com
SUMMARY:Erica D. Segura
DESCRIPTION:Date & Time\nJune 19\, 2026 | 6:00 PM – 9:00 PM \n\nLocation\nTucson Racquet & Fitness Club – Lawn \n\nEvent Description\nJoin us for another great night in our Friday Night BBQ & Live Music Series featuring Erica D Segura! \nErica D Segura brings a soulful\, expressive sound to the stage\, blending elements of acoustic\, pop\, and contemporary styles with powerful vocals and a strong stage presence. Her performances create an engaging and intimate atmosphere while still delivering the energy of a full live show. \nWhether you’re relaxing with friends or getting up to dance\, this is the perfect way to spend a Friday evening at the club. \nCome out and enjoy a great night of music\, food\, and drinks. \n\nEvent Highlights\n• Live Music on the Lawn• Erica D Segura (Acoustic • Pop • Contemporary)• Dancing Encouraged• Family-Friendly Atmosphere• Food & Beverages Available for Purchase \n\nAdmission\n• Members: Free (includes up to 2 guests)• Non-Members: $8 (12+)• Ages 7–11: $5• 6 & Under: Free
URL:https://tucsonracquetclub.com/event/2458/
LOCATION:AZ
END:VEVENT
END:VCALENDAR