BEGIN:VCALENDAR
VERSION:2.0
PRODID:-//Tucson Racquet &amp; Fitness Club - ECPv6.15.18//NONSGML v1.0//EN
CALSCALE:GREGORIAN
METHOD:PUBLISH
X-ORIGINAL-URL:https://tucsonracquetclub.com
X-WR-CALDESC:Events for Tucson Racquet &amp; Fitness Club
REFRESH-INTERVAL;VALUE=DURATION:PT1H
X-Robots-Tag:noindex
X-PUBLISHED-TTL:PT1H
BEGIN:VTIMEZONE
TZID:UTC
BEGIN:STANDARD
TZOFFSETFROM:+0000
TZOFFSETTO:+0000
TZNAME:UTC
DTSTART:20250101T000000
END:STANDARD
END:VTIMEZONE
BEGIN:VTIMEZONE
TZID:America/Phoenix
BEGIN:STANDARD
TZOFFSETFROM:-0700
TZOFFSETTO:-0700
TZNAME:MST
DTSTART:20250101T000000
END:STANDARD
END:VTIMEZONE
BEGIN:VEVENT
DTSTART;VALUE=DATE:20260410
DTEND;VALUE=DATE:20260413
DTSTAMP:20260420T235041
CREATED:20260130T031748Z
LAST-MODIFIED:20260130T045928Z
UID:2405-1775779200-1776038399@tucsonracquetclub.com
SUMMARY:USHA Hall of Fame Handball Tournament & WPH R48 Pre Qualifier
DESCRIPTION:The United States Handball Association and the World Players of Handball are thrilled to present the April 10-12\, 2026 USHA Hall of Fame & R48 Pre Qualifier at the Tucson Racquet Club.  The USHA and WPH will proudly collaborate on the 2026 Hall of Fame and R48 Pre Qualifier in the home city of both organizations.  There is no better place than Tucson in mid-April\, so make your plans to watch the R48 Pre Qualifier and play in the various amateur and age bracket singles and doubles brackets at the USHA Hall of Fame. \nTournament director:  USHA\, Matt Krueger\, mkrueger@ushandball.org \nTournament sponsors:  USHA \nDefending Race 4 eight Hall of Fame champion:  M. Mulkerrins \nAll players must be current USHA members. \n  \n 
URL:https://tucsonracquetclub.com/event/usha-hall-of-fame-handball-tournament/
LOCATION:Tucson Racquet & Fitness Club\, 4001 N Country Club Rd\, Tucson\, AZ\, 85716\, United States
CATEGORIES:Handball
ATTACH;FMTTYPE=image/jpeg:https://tucsonracquetclub.com/wp-content/uploads/sites/280/2026/01/HB-Tourney-LOGO-2026.jpg
END:VEVENT
BEGIN:VEVENT
DTSTART;TZID=America/Phoenix:20260410T180000
DTEND;TZID=America/Phoenix:20260410T210000
DTSTAMP:20260420T235041
CREATED:20260319T042134Z
LAST-MODIFIED:20260411T073925Z
UID:2425-1775844000-1775854800@tucsonracquetclub.com
SUMMARY:BBQ Night with Baba Marimba
DESCRIPTION:Date & Time:April 10 | 6:00 PM – 9:00 PM \nLocation:Tucson Racquet & Fitness Club – Lawn \nEvent Description:BBQ Night is back\, and we’re bringing back one of your favorites — Baba Marimba! \nJoin us for a fun night of live music\, great food\, and good vibes out on the lawn. Baba Marimba delivers their signature world beat fusion sound that always gets the crowd going — this is a returning band you won’t want to miss. \nBring your friends\, grab a drink\, and kick off the season with us at our first official BBQ night of the year. \nEvent Highlights:• Live Music on the Lawn• Returning Band: Baba Marimba• Family-Friendly Atmosphere• Food & Beverages Available for Purchase \nAdmission:• Members: Free (includes up to 2 guests)• Non-Members: \n\n\nAdults (12+): $8 \n\n\nAges 7–11: $5 \n\n\n6 & Under: Free \n\n\nAdditional Info:Food and beverages will be available for purchase during the event. Seating is first come\, first served — feel free to bring lawn chairs or blankets for a more comfortable experience.
URL:https://tucsonracquetclub.com/event/bbq-night-with-baba-marimba/
LOCATION:Tucson Racquet & Fitness Club\, 4001 N Country Club Rd\, Tucson\, AZ\, 85716\, United States
END:VEVENT
BEGIN:VEVENT
DTSTART;TZID=America/Phoenix:20260417T180000
DTEND;TZID=America/Phoenix:20260417T210000
DTSTAMP:20260420T235041
CREATED:20260326T031743Z
LAST-MODIFIED:20260411T074434Z
UID:2432-1776448800-1776459600@tucsonracquetclub.com
SUMMARY:Live Music in Tucson: Sophia Rankin & The Sound | Friday Night BBQ
DESCRIPTION:Live Music in Tucson: Sophia Rankin & The Sound | Friday Night BBQ\nLooking for live music in Tucson this Friday? Join us at Tucson Racquet & Fitness Club for our Friday Night BBQ & Live Music Series featuring Sophia Rankin & The Sound. \nDate: Friday\, April 17Time: 6:00 PM – 9:00 PMLocation: Tucson Racquet & Fitness Club \n\nSophia Rankin & The Sound – Live in Tucson\nSophia Rankin & The Sound is an award-winning Tucson-based band known for their powerful vocals and unique blend of alternative folk\, indie\, Americana\, and rock music. \nTheir live performances combine emotional songwriting with high-energy sound\, making them one of the most exciting local bands in Tucson. \n\nFriday Night BBQ & Live Music in Tucson\nOur weekly Friday Night BBQ is one of the best things to do in Tucson on a Friday night\, combining live music\, great food\, and a relaxed outdoor atmosphere. \n\nBBQ Buffet | 6:00 PM\n$18 per person (includes a drink) \nEnjoy fresh off-the-grill favorites and classic sides while listening to live music under the Tucson sky. \n\nKids Meal Option\n$12 per childBurger or hot dog\, chips\, and a drink \n\nAdmission\nMembers – Free + 2 Free GuestsNon-Members (12+) – $8Kids (7–11) – $56 & Under – Free \n\nWhy This Is One of the Best Tucson Events This Week\nLive local music in Tucson \nFamily-friendly Friday night event \nAffordable food and admission \nOutdoor social atmosphere \n\nLocation\nTucson Racquet & Fitness Club4001 N Country Club RdTucson\, AZ
URL:https://tucsonracquetclub.com/event/live-music-in-tucson-sophia-rankin-the-sound-friday-night-bbq/
LOCATION:Tucson Racquet & Fitness Club\, 4001 N Country Club Rd\, Tucson\, AZ\, 85716\, United States
ATTACH;FMTTYPE=image/png:https://tucsonracquetclub.com/wp-content/uploads/sites/280/2026/03/Sophia-Rankin.png
END:VEVENT
BEGIN:VEVENT
DTSTART;TZID=America/Phoenix:20260424T180000
DTEND;TZID=America/Phoenix:20260424T210000
DTSTAMP:20260420T235041
CREATED:20260403T022110Z
LAST-MODIFIED:20260411T074305Z
UID:2436-1777053600-1777064400@tucsonracquetclub.com
SUMMARY:Soul Essential | Friday Night BBQ
DESCRIPTION:Date & Time:April 24 | 6:00 PM – 9:00 PM \nLocation:Tucson Racquet & Fitness Club – Lawn \nEvent Description:Join us for another great night in our BBQ & Live Music Series featuring Soul Essential! \nKnown for their smooth blend of classic and modern R&B\, Soul Essential brings rich harmonies\, great energy\, and a sound that’s perfect for a night out on the lawn. This is the kind of music you can sit back and enjoy — or get up and dance to. \nCome out\, enjoy the atmosphere\, and spend the evening with great music\, food\, and drinks. \n\nEvent Highlights:• Live Music on the Lawn• Soul Essential (Classic & Modern R&B)• Dancing Encouraged• Family-Friendly Atmosphere• Food & Beverages Available for Purchase \n\nAdmission:• Members: Free (includes up to 2 guests)• Non-Members:Adults (12+): $8Ages 7–11: $56 & Under: Free \n\nAdditional Info:Food and beverages will be available for purchase during the event. Seating is first come\, first served — feel free to bring lawn chairs or blankets for a more comfortable experience.
URL:https://tucsonracquetclub.com/event/2436/
ATTACH;FMTTYPE=image/png:https://tucsonracquetclub.com/wp-content/uploads/sites/280/2026/04/ChatGPT-Image-Apr-2-2026-at-12_20_05-PM.png
END:VEVENT
BEGIN:VEVENT
DTSTART;TZID=America/Phoenix:20260501T180000
DTEND;TZID=America/Phoenix:20260501T210000
DTSTAMP:20260420T235041
CREATED:20260408T022832Z
LAST-MODIFIED:20260411T074344Z
UID:2438-1777658400-1777669200@tucsonracquetclub.com
SUMMARY:Garret James and  The Wanderers
DESCRIPTION:BBQ Night – Friday\, May 1\, 2026Live Music: Garrett James & The Wanderers \nA young Tucson-based blues-rock band bringing the soulful grit of classic vinyl-era favorites with a modern\, electrifying sound. Expect bluesy guitar\, powerful vocals\, and a high-energy set that keeps the lawn moving. \n🕕 6–9 PM📍 Tucson Racquet & Fitness Club \nBBQ & Drinks Available for Purchase \nCourtside Squeeze Lemonade StandFresh squeezed lemonade• 16 oz – $5• 20 oz – $7 \nEntryMembers: Free (includes up to 2 guests)Non-Members:• Adults (12+): $8• Ages 7–11: $5• 6 & Under: Free \nBring your friends\, grab a drink\, and enjoy a great night of live music.
URL:https://tucsonracquetclub.com/event/garret-james-and-the-wanderers/
ATTACH;FMTTYPE=image/png:https://tucsonracquetclub.com/wp-content/uploads/sites/280/2026/04/Untitled-design-2.png
END:VEVENT
END:VCALENDAR