BEGIN:VCALENDAR
VERSION:2.0
PRODID:-//Tucson Racquet &amp; Fitness Club - ECPv6.15.18//NONSGML v1.0//EN
CALSCALE:GREGORIAN
METHOD:PUBLISH
X-WR-CALNAME:Tucson Racquet &amp; Fitness Club
X-ORIGINAL-URL:https://tucsonracquetclub.com
X-WR-CALDESC:Events for Tucson Racquet &amp; Fitness Club
REFRESH-INTERVAL;VALUE=DURATION:PT1H
X-Robots-Tag:noindex
X-PUBLISHED-TTL:PT1H
BEGIN:VTIMEZONE
TZID:UTC
BEGIN:STANDARD
TZOFFSETFROM:+0000
TZOFFSETTO:+0000
TZNAME:UTC
DTSTART:20240101T000000
END:STANDARD
END:VTIMEZONE
BEGIN:VEVENT
DTSTART;VALUE=DATE:20260307
DTEND;VALUE=DATE:20260317
DTSTAMP:20260421T062546
CREATED:20260114T034942Z
LAST-MODIFIED:20260227T050644Z
UID:2396-1772841600-1773705599@tucsonracquetclub.com
SUMMARY:J300 TUCSON
DESCRIPTION:🎾 ITF J300 Tucson Tournament Hub\n📞 Tournament Contacts\nTournament Director: Milena Patel \n📧 tennis@tucsonracquetclub.com \n💬Call/Text: (520) 499-4488 \n\nTOURNAMENT PHOTO SERVICES:\nYourGameFace will be taking Action Photos of matches by request.\nLet them capture this moment in your players tennis history.\nSee Samples on Instagram: @yourgameface\n\nCost is $150 for a Digital Set of Action Photos from one match.\n(Normally 250-350 photos).\n\n4 WAYS TO SIGN UP FOR THE DIGITAL ACTION PHOTOS:\n1. Click this Square Link for online Order Form – https://square.link/u/2YedPFY1\n2. Text YourGameFace cell phone:  214-543-5437\n3. Visit the Photo-Tent at the main site.\n4. Scan this QR code with your phone camera.\n\n\n\nFrequently Asked Questions\n🗓 Tournament Basics\nWhen is the tournament? \nQualifying: March 7–8 \nMain Draw: March 9–15 \nWhere is the tournament held? \nTucson Racquet & Fitness Club \n4001 N Country Club Rd\, Tucson\, AZ \nWhat ITF category is this event? \nITF World Tennis Tour Juniors J300 \n✍️ Player Entry & Acceptance\nWhere can I see the acceptance list? \nThe official acceptance list is posted on the ITF website. Click here to view.  \nHow do I apply for a wildcard?  \n🎾 ITF J300 TUCSON Wildcard Request Form – Fill out form \n  \n🏨 Hotel & Hospitality\nFor assistance with new reservations or changes\, guests may contact the Front Desk directly at (520) 881-4200. Please have them mention the group name when calling so the staff can assist appropriately. \nIs hotel accommodation provided? \nMain draw players receive tournament hospitality reimbursement in accordance with ITF guidelines. Reimbursement is provided for approved nights during main draw participation and is processed at the conclusion of the player’s stay. Please bring a copy of the final hotel invoice (digital or printed). \nReimbursement structure \n• 100% reimbursement for double occupancy \n• 50% reimbursement for single occupancy \nQualifying players are responsible for their own accommodations unless they advance to the main draw. \nWhat hotel is the tournament hotel? \nDoubleTree by Hilton Tucson – Reid Park \nWhat is the tournament rate? \n$144 per night (plus tax). \nIf you see a different rate\, contact the tournament desk before booking. \nAre coaches provided hotel accommodations? \nOfficial national coaches approved by their federation may receive hospitality. \n  \n🚐 Transportation\nIs transportation provided? \nShuttle service is available between the official hotel and the club. \nIs airport transportation included? \nPlayers are responsible for airport transportation. \n🎾 Tournament Ball Information\nBoys’ Draw \n• Wilson US Open Extra Duty Tennis Balls \nGirls’ Draw \n• Wilson US Open Regular Duty Tennis Balls \n 
URL:https://tucsonracquetclub.com/event/j300-tucson/
CATEGORIES:Tennis
ATTACH;FMTTYPE=image/jpeg:https://tucsonracquetclub.com/wp-content/uploads/sites/280/2026/01/WTT-Juniors-700x450-1.jpg
ORGANIZER;CN="Milena Patel":MAILTO:tennis@tucsonracquetclub.com
END:VEVENT
BEGIN:VEVENT
DTSTART;TZID=UTC:20260215T120000
DTEND;TZID=UTC:20260215T170000
DTSTAMP:20260421T062546
CREATED:20260103T042703Z
LAST-MODIFIED:20260127T044559Z
UID:2391-1771156800-1771174800@tucsonracquetclub.com
SUMMARY:TCTP Annual Adult Tournament & Silent Auction Fundraiser
DESCRIPTION:
URL:https://tucsonracquetclub.com/event/tctp-annual-adult-tournament-silent-auction-fundraiser/
CATEGORIES:Tennis
ATTACH;FMTTYPE=image/jpeg:https://tucsonracquetclub.com/wp-content/uploads/sites/280/2026/01/TCTP-Fundraiser-Tournament-2026-2.jpeg
ORGANIZER;CN="Milena Patel":MAILTO:tennis@tucsonracquetclub.com
END:VEVENT
BEGIN:VEVENT
DTSTART;TZID=UTC:20251115T160000
DTEND;TZID=UTC:20251115T190000
DTSTAMP:20260421T062546
CREATED:20251008T022439Z
LAST-MODIFIED:20251108T042215Z
UID:2328-1763222400-1763233200@tucsonracquetclub.com
SUMMARY:10 U Silly Hats and Shades
DESCRIPTION:
URL:https://tucsonracquetclub.com/event/10-u-silly-hats-and-shades/
CATEGORIES:Tennis
ORGANIZER;CN="Milena Patel":MAILTO:tennis@tucsonracquetclub.com
END:VEVENT
BEGIN:VEVENT
DTSTART;VALUE=DATE:20251114
DTEND;VALUE=DATE:20251117
DTSTAMP:20260421T062546
CREATED:20250805T023624Z
LAST-MODIFIED:20251108T041916Z
UID:2297-1763078400-1763337599@tucsonracquetclub.com
SUMMARY:2025 U of A Ladies Tennis Wildcat Invite
DESCRIPTION:
URL:https://tucsonracquetclub.com/event/2025-u-of-a-ladies-tennis-wildcat-invite/
CATEGORIES:Tennis
ATTACH;FMTTYPE=image/png:https://tucsonracquetclub.com/wp-content/uploads/sites/280/2025/08/Screenshot-2025-11-07-at-2.18.48-PM.png
ORGANIZER;CN="Milena Patel":MAILTO:tennis@tucsonracquetclub.com
END:VEVENT
BEGIN:VEVENT
DTSTART;TZID=UTC:20251107T103000
DTEND;TZID=UTC:20251109T163000
DTSTAMP:20260421T062546
CREATED:20251008T015424Z
LAST-MODIFIED:20251008T020012Z
UID:2325-1762511400-1762705800@tucsonracquetclub.com
SUMMARY:Meet Play Love Tennis
DESCRIPTION:
URL:https://tucsonracquetclub.com/event/meet-play-love-tennis/
LOCATION:Tucson Racquet & Fitness Club\, 4001 N Country Club Rd\, Tucson\, AZ\, 85716\, United States
CATEGORIES:Tennis
ATTACH;FMTTYPE=image/png:https://tucsonracquetclub.com/wp-content/uploads/sites/280/2025/10/Screenshot-2025-10-07-113928.png
END:VEVENT
BEGIN:VEVENT
DTSTART;TZID=UTC:20251103T103000
DTEND;TZID=UTC:20251105T163000
DTSTAMP:20260421T062546
CREATED:20251008T015115Z
LAST-MODIFIED:20251008T021546Z
UID:2323-1762165800-1762360200@tucsonracquetclub.com
SUMMARY:Meet Play Love Tennis
DESCRIPTION:
URL:https://tucsonracquetclub.com/event/meet-play-love/
LOCATION:Tucson Racquet & Fitness Club\, 4001 N Country Club Rd\, Tucson\, AZ\, 85716\, United States
CATEGORIES:Tennis
ATTACH;FMTTYPE=image/png:https://tucsonracquetclub.com/wp-content/uploads/sites/280/2025/10/Screenshot-2025-10-07-113928.png
END:VEVENT
BEGIN:VEVENT
DTSTART;TZID=UTC:20251025T160000
DTEND;TZID=UTC:20251025T193000
DTSTAMP:20260421T062546
CREATED:20251008T013807Z
LAST-MODIFIED:20251008T013807Z
UID:2322-1761408000-1761420600@tucsonracquetclub.com
SUMMARY:USTA Junior Circuit - 10U Halloween
DESCRIPTION:
URL:https://tucsonracquetclub.com/event/usta-junior-circuit-10u-halloween/
CATEGORIES:Tennis
END:VEVENT
BEGIN:VEVENT
DTSTART;VALUE=DATE:20251023
DTEND;VALUE=DATE:20251027
DTSTAMP:20260421T062546
CREATED:20250727T204344Z
LAST-MODIFIED:20251008T022055Z
UID:2287-1761177600-1761523199@tucsonracquetclub.com
SUMMARY:Level 4 Open: USTA Adult Southwest Hard-Court Championships
DESCRIPTION:
URL:https://tucsonracquetclub.com/event/level-4-open-usta-adult-southwest-hard-court-championships/
LOCATION:Tucson Racquet & Fitness Club\, 4001 N Country Club Rd\, Tucson\, AZ\, 85716\, United States
CATEGORIES:Tennis
ATTACH;FMTTYPE=image/jpeg:https://tucsonracquetclub.com/wp-content/uploads/sites/280/2025/07/Overview-Night-9.19.25.jpg
ORGANIZER;CN="Paityn Jaquess":MAILTO:taylor@southwest.usta.com
END:VEVENT
BEGIN:VEVENT
DTSTART;VALUE=DATE:20251018
DTEND;VALUE=DATE:20251021
DTSTAMP:20260421T062546
CREATED:20250727T203431Z
LAST-MODIFIED:20251008T020436Z
UID:2285-1760745600-1761004799@tucsonracquetclub.com
SUMMARY:USTA Level 4 Open - Racketbusters Jr. Masters
DESCRIPTION:Come out and see top juniors from this section and other sections compete!
URL:https://tucsonracquetclub.com/event/usta-level-4-open-racketbusters-jr-masters/
LOCATION:Tucson Racquet & Fitness Club\, 4001 N Country Club Rd\, Tucson\, AZ\, 85716\, United States
CATEGORIES:Tennis
ATTACH;FMTTYPE=image/jpeg:https://tucsonracquetclub.com/wp-content/uploads/sites/280/2025/07/Racketbusters-2025flyer-scaled.jpg
ORGANIZER;CN="Hilda Cortez":MAILTO:cortez.tennis@gmail.com
END:VEVENT
BEGIN:VEVENT
DTSTART;TZID=UTC:20250920T110000
DTEND;TZID=UTC:20250920T180000
DTSTAMP:20260421T062546
CREATED:20250727T202330Z
LAST-MODIFIED:20250903T112115Z
UID:2284-1758366000-1758391200@tucsonracquetclub.com
SUMMARY:TRFC Jr. Super Set #2
DESCRIPTION:
URL:https://tucsonracquetclub.com/event/trfc-jr-super-set-2/
LOCATION:Tucson Racquet & Fitness Club\, 4001 N Country Club Rd\, Tucson\, AZ\, 85716\, United States
CATEGORIES:Tennis
ATTACH;FMTTYPE=image/jpeg:https://tucsonracquetclub.com/wp-content/uploads/sites/280/2025/07/TRFC-Jr-Open-2-flyer.jpg
ORGANIZER;CN="Hilda Cortez":MAILTO:cortez.tennis@gmail.com
END:VEVENT
BEGIN:VEVENT
DTSTART;TZID=UTC:20250913T090000
DTEND;TZID=UTC:20250914T170000
DTSTAMP:20260421T062546
CREATED:20250729T224134Z
LAST-MODIFIED:20250730T041710Z
UID:2291-1757754000-1757869200@tucsonracquetclub.com
SUMMARY:USTA Coaches Workshop
DESCRIPTION:The USTA Coaching Fundamentals Workshop is a two-day (September 13 – 14; from 9am to 5pm on Saturday and 9am to 1pm on Sunday)\, in-person training that will focus on coaching principles and building skills needed to teach beginner to low intermediate level players of all ages. \nCoaches who complete the workshop will have the opportunity to be certified as a Level 1 Coach with both RSPA (formerly USPTA) and PTR upon meeting additional membership/certification requirements. Please note: this is an educational workshop that can be used towards certification with either the RSPA (formerly USPTA) or PTR.  \nLunch is included with registration and provided on-site for both days of the workshop.
URL:https://tucsonracquetclub.com/event/usta-coaches-workshop/
LOCATION:Tucson Racquet & Fitness Club\, 4001 N Country Club Rd\, Tucson\, AZ\, 85716\, United States
CATEGORIES:Tennis
ATTACH;FMTTYPE=application/pdf:https://tucsonracquetclub.com/wp-content/uploads/sites/280/2025/07/Tucson-CF-Workshop-Flyer-Print.pdf
ORGANIZER;CN="Rene Matusiak":MAILTO:matusiak@southwest.usta.com
END:VEVENT
BEGIN:VEVENT
DTSTART;TZID=UTC:20250802T183000
DTEND;TZID=UTC:20250802T210000
DTSTAMP:20260421T062546
CREATED:20250727T033954Z
LAST-MODIFIED:20250727T202507Z
UID:2282-1754159400-1754168400@tucsonracquetclub.com
SUMMARY:USTA 10 and Under Summer Nights #2 Tournament
DESCRIPTION:
URL:https://tucsonracquetclub.com/event/usta-10-u-summer-nights-2-tournament/
LOCATION:Tucson Racquet & Fitness Club\, 4001 N Country Club Rd\, Tucson\, AZ\, 85716\, United States
CATEGORIES:Tennis
ATTACH;FMTTYPE=image/jpeg:https://tucsonracquetclub.com/wp-content/uploads/sites/280/2025/07/JR-Circuit-10U-Summer-Nights-2025-3.jpeg
END:VEVENT
BEGIN:VEVENT
DTSTART;TZID=UTC:20250426T130000
DTEND;TZID=UTC:20250426T160000
DTSTAMP:20260421T062546
CREATED:20250418T040721Z
LAST-MODIFIED:20250418T041149Z
UID:2234-1745672400-1745683200@tucsonracquetclub.com
SUMMARY:Jr. Excellence Tournament
DESCRIPTION:The players who participate in the Jr. Excellence and Jr. Development Program will be competing against each other in a one- day tournament hosted by the Jr. Excellence/Jr. Development Program.  Champions and Finalists of each draw will receive swag/prizes from Volkl Tennis. \n  \n \n 
URL:https://tucsonracquetclub.com/event/jr-excellence-tournament-2/
LOCATION:Tucson Racquet & Fitness Club\, 4001 N Country Club Rd\, Tucson\, AZ\, 85716\, United States
CATEGORIES:Tennis
ATTACH;FMTTYPE=image/png:https://tucsonracquetclub.com/wp-content/uploads/sites/280/2025/04/JR.-EXCELLENCE-LOGO_FullColor_OSOL-01-3.png
ORGANIZER;CN="Torrie Browning":MAILTO:tmbrowning@tucsonracquetclub.com
END:VEVENT
BEGIN:VEVENT
DTSTART;TZID=UTC:20250308T130000
DTEND;TZID=UTC:20250308T160000
DTSTAMP:20260421T062546
CREATED:20250304T041520Z
LAST-MODIFIED:20250305T210730Z
UID:2155-1741438800-1741449600@tucsonracquetclub.com
SUMMARY:Jr. Excellence Tournament
DESCRIPTION:The Tucson Racquet Club Jr. Excellence and Jr. Development Tennis Programs are hosting an in-house tournament specifically for the players of the program! \n 
URL:https://tucsonracquetclub.com/event/jr-excellence-tournament/
LOCATION:Tucson Racquet & Fitness Club\, 4001 N Country Club Rd\, Tucson\, AZ\, 85716\, United States
CATEGORIES:Tennis
ATTACH;FMTTYPE=image/png:https://tucsonracquetclub.com/wp-content/uploads/sites/280/2025/03/JR.-EXCELLENCE-LOGO_FullColor_OSOL-01-e1741183452631.png
ORGANIZER;CN="Torrie Browning":MAILTO:tmbrowning@tucsonracquetclub.com
END:VEVENT
END:VCALENDAR